BEGIN:VCALENDAR
VERSION:2.0
PRODID:-//La Nuova Polifonia - ECPv6.2.8.2//NONSGML v1.0//EN
CALSCALE:GREGORIAN
METHOD:PUBLISH
X-ORIGINAL-URL:https://www.nuovapolifonia.it
X-WR-CALDESC:Eventi per La Nuova Polifonia
REFRESH-INTERVAL;VALUE=DURATION:PT1H
X-Robots-Tag:noindex
X-PUBLISHED-TTL:PT1H
BEGIN:VTIMEZONE
TZID:Europe/Rome
BEGIN:DAYLIGHT
TZOFFSETFROM:+0100
TZOFFSETTO:+0200
TZNAME:CEST
DTSTART:20240331T010000
END:DAYLIGHT
BEGIN:STANDARD
TZOFFSETFROM:+0200
TZOFFSETTO:+0100
TZNAME:CET
DTSTART:20241027T010000
END:STANDARD
END:VTIMEZONE
BEGIN:VEVENT
DTSTART;TZID=Europe/Rome:20240101T180000
DTEND;TZID=Europe/Rome:20240101T200000
DTSTAMP:20260423T210653
CREATED:20231222T102410Z
LAST-MODIFIED:20231222T103129Z
UID:692-1704132000-1704139200@www.nuovapolifonia.it
SUMMARY:Natale a Napoli alla Corte di Carlo di Borbone
DESCRIPTION:  \nIngresso libero \n \nNatale a Napoli\nalla Corte di Carlo di Borbone \nBasilica di San Domenico Maggiore 1 gennaio 2024 – ore 18.00 \nOrchestra La Nuova Polifonia Coro Ensemble Vocale di Napoli \nSoprano Chiara Polese\, Mezzosoprano Gabriella Colecchia\, Tenore Stefano Sorrentino\, Basso Filippo Morace\, \nChitarra Francesco Scelzo\, Organo Sergio Orabona \nDirettore: Alessandro De Simone \nMaestro del coro: Antonio Spagnolo \nMusiche di: D. Scarlatti\, C. Giordano\, J. Ximénez\, J. de Nebra\, Sant’Alfonso Maria de’ Liguori \nDirezione artistica\nElsa Evangelista \nProduzione\nLa Nuova Polifonia \nIngresso libero \n(Accesso dal Cortile o dalla Piazza San Domenico Maggiore) \n\nI protagonisti\n\n  \nIl direttore artistico – Elsa Evangelista\n  \nAlessandro De Simone\n  \nChiara Polese\n  \nGabriella Colecchia\n  \nStefano Sorrentino\n  \nFilippo Morace\n  \nSergio Orabona\n  \nFrancesco Scelzo\n  \nIngresso Libero
URL:https://www.nuovapolifonia.it/evento/natale-napoli-carloborbone/
CATEGORIES:Musica Classica
ATTACH;FMTTYPE=image/png:https://www.nuovapolifonia.it/wp-content/uploads/2023/12/Anteprima-concerto-1-gennaio-2024.png
END:VEVENT
BEGIN:VEVENT
DTSTART;TZID=Europe/Rome:20240325T180000
DTEND;TZID=Europe/Rome:20240325T180000
DTSTAMP:20260423T210653
CREATED:20240322T102557Z
LAST-MODIFIED:20240322T153402Z
UID:744-1711389600-1711389600@www.nuovapolifonia.it
SUMMARY:Le processioni e le composizioni per Banda del Venerdì Santo nel sud Italia
DESCRIPTION:CONFERENZA\nLe processioni e le composizioni per Banda del Venerdì Santo nel sud Italia: origini e storia di un rito millenario\n \nLunedì 25 Marzo ore 18:00\nComplesso Museale Arciconfraternita dei Pellegrini\nSala Mandato\nVia Portamedina 41\, Napoli
URL:https://www.nuovapolifonia.it/evento/processioni-venerdi-santo-sud-italia/
LOCATION:Complesso Museale Arciconfraternita del Pellegrini\, Via Portamedina 41\, Napoli\, Italia
CATEGORIES:Conferenza
ATTACH;FMTTYPE=image/png:https://www.nuovapolifonia.it/wp-content/uploads/2024/03/Screenshot-2024-03-22-alle-11.25.07.png
END:VEVENT
BEGIN:VEVENT
DTSTART;VALUE=DATE:20240521
DTEND;VALUE=DATE:20240524
DTSTAMP:20260423T210653
CREATED:20240419T161613Z
LAST-MODIFIED:20240419T161613Z
UID:760-1716249600-1716508799@www.nuovapolifonia.it
SUMMARY:Masterclass Il coro nell'opera lirica
DESCRIPTION:21-22-23 maggio 2024 \nAuditorium “Daniele Paris”\nScuola di Direzione di Coro e Composizione Corale\nDocente M° Elsa Evangelista
URL:https://www.nuovapolifonia.it/evento/masterclass-il-coro-nellopera-lirica/
LOCATION:Conservatorio Licinio Refice\, Viale Michelangelo – 03100 Frosinone\, Viale Michelangelo\, Frosinone\, 03100
CATEGORIES:Formazione
ATTACH;FMTTYPE=image/png:https://www.nuovapolifonia.it/wp-content/uploads/2024/04/Anteprima-Masterclass.png
END:VEVENT
END:VCALENDAR